BEGIN:VCALENDAR
VERSION:2.0
PRODID:-//Library Market//iCal Export//EN
BEGIN:VEVENT
SUMMARY:Open Hub
UID:29796
DTSTAMP:20260425T172900Z
DTSTART:20260819T230000Z
DTEND:20260820T010000Z
LOCATION:Altoona Public Library, 700 8th Street SW, Altoona, IA 50009, Uni
 ted States
ROOM: Glowforge Reservation
DESCRIPTION:Drop in and visit the Maker Hub! Ask questions, look at the eq
 uipment, and see some projects completed using them. If you&#039;re comple
 ting the Glowforge certification process, watch the basics videos before a
 ttending an Open Hub event. You&#039;ll demonstrate your knowledge after c
 ompleting a brief safety training and earn your Glowforge certificate to u
 se the machine independently.
URL:https://altoonapl.librarycalendar.com/event/open-hub-29796
END:VEVENT
END:VCALENDAR
