BEGIN:VCALENDAR
VERSION:2.0
PRODID:-//Library Market//iCal Export//EN
BEGIN:VEVENT
SUMMARY:Meadow View
UID:29658
DTSTAMP:20260422T101800Z
DTSTART:20260623T230000Z
DTEND:20260624T000000Z
LOCATION:Altoona Public Library, 700 8th Street SW, Altoona, IA 50009, Uni
 ted States
ROOM: Meeting Room A
DESCRIPTION:HOA Meeting
URL:https://altoonapl.librarycalendar.com/event/meadow-view-29658
END:VEVENT
END:VCALENDAR
