BEGIN:VCALENDAR
VERSION:2.0
PRODID:-//Library Market//iCal Export//EN
BEGIN:VEVENT
SUMMARY:Learn to Crochet
UID:29652
DTSTAMP:20260421T031200Z
DTSTART:20260531T194500Z
DTEND:20260531T204500Z
LOCATION:Altoona Public Library, 700 8th Street SW, Altoona, IA 50009, Uni
 ted States
ROOM: Meeting Room A
DESCRIPTION:The purpose of this event is to support the joy of crochet and
  other fiber arts by providing a safe learning community to share experien
 ces and teach those looking to learn.
URL:https://altoonapl.librarycalendar.com/event/learn-crochet-29652
END:VEVENT
END:VCALENDAR
