BEGIN:VCALENDAR
VERSION:2.0
PRODID:-//Library Market//iCal Export//EN
BEGIN:VEVENT
SUMMARY:Superhero Training
UID:28971
DTSTAMP:20260425T172900Z
DTSTART:20260725T150000Z
DTEND:20260725T160000Z
LOCATION:Altoona Public Library, 700 8th Street SW, Altoona, IA 50009, Uni
 ted States
ROOM: Meeting Room Full (A&amp;B)
DESCRIPTION:Do you have what it takes to be a superhero? Complete the obst
 acle course and check other tasks off your list to earn your official supe
 rhero certificate! 
URL:https://altoonapl.librarycalendar.com/event/superheroes-28971
END:VEVENT
END:VCALENDAR
