BEGIN:VCALENDAR
VERSION:2.0
PRODID:-//Library Market//iCal Export//EN
BEGIN:VEVENT
SUMMARY:Glow Mini-Golf
UID:29709
DTSTAMP:20260423T234400Z
DTSTART:20260808T150000Z
DTEND:20260808T190000Z
LOCATION:Altoona Public Library, 700 8th Street SW, Altoona, IA 50009, Uni
 ted States
ROOM: Meeting Room Full (A&amp;B)
DESCRIPTION:Grab your friends and drop in to play a round of mini-golf in 
 the dark!   Tee times for the 8-hole course will be staggered based on a
 rrival.   
URL:https://altoonapl.librarycalendar.com/index.php/event/glow-mini-golf-2
 9709
END:VEVENT
END:VCALENDAR
