BEGIN:VCALENDAR
VERSION:2.0
PRODID:-//Library Market//iCal Export//EN
BEGIN:VEVENT
SUMMARY:Craftpalooza
UID:29440
DTSTAMP:20260423T200900Z
DTSTART:20260805T203000Z
DTEND:20260805T213000Z
LOCATION:Altoona Public Library, 700 8th Street SW, Altoona, IA 50009, Uni
 ted States
ROOM: Meeting Room Full (A&amp;B)
DESCRIPTION:Drop in and choose from a variety of craft supplies to complet
 e a project of your choice!
URL:https://altoonapl.librarycalendar.com/index.php/event/craftpalooza-294
 40
END:VEVENT
END:VCALENDAR
