BEGIN:VCALENDAR
VERSION:2.0
PRODID:-//Library Market//iCal Export//EN
BEGIN:VEVENT
SUMMARY:Freddy the Frog Storytime
UID:28977
DTSTAMP:20260424T040200Z
DTSTART:20260602T150000Z
DTEND:20260602T153000Z
LOCATION:Altoona Public Library, 700 8th Street SW, Altoona, IA 50009, Uni
 ted States
ROOM: Meeting Room Full (A&amp;B)
DESCRIPTION:Join us for a special Storytime with Freddy the Frog, our libr
 ary mascot! We will read stories, sing songs, and have a meet and greet wi
 th our friendly frog. 
URL:https://altoonapl.librarycalendar.com/index.php/event/Freddyfrogstoryt
 ime
END:VEVENT
END:VCALENDAR
