BEGIN:VCALENDAR
VERSION:2.0
PRODID:-//Library Market//iCal Export//EN
BEGIN:VEVENT
SUMMARY:Paint and Pot
UID:28975
DTSTAMP:20260423T200900Z
DTSTART:20260608T180000Z
DTEND:20260608T190000Z
LOCATION:Altoona Public Library, 700 8th Street SW, Altoona, IA 50009, Uni
 ted States
ROOM: Meeting Room Full (A&amp;B)
DESCRIPTION:Celebrate summer by painting a pot and planting some seeds to 
 watch grow all summer long! 
URL:https://altoonapl.librarycalendar.com/index.php/event/paint-and-pot-28
 975
END:VEVENT
END:VCALENDAR
