BEGIN:VCALENDAR
VERSION:2.0
PRODID:-//Library Market//iCal Export//EN
BEGIN:VEVENT
SUMMARY:Blank Park Zoo
UID:28115
DTSTAMP:20260424T081900Z
DTSTART:20260603T200000Z
DTEND:20260603T210000Z
LOCATION:Altoona Public Library, 700 8th Street SW, Altoona, IA 50009, Uni
 ted States
ROOM: Meeting Room Full (A&amp;B)
DESCRIPTION:Blank Park Zoo is bringing the zoo to the library! Join us for
  a special program about wild animals. 
URL:https://altoonapl.librarycalendar.com/index.php/event/Blankparkzoo-281
 15
END:VEVENT
END:VCALENDAR
