BEGIN:VCALENDAR
VERSION:2.0
PRODID:-//Library Market//iCal Export//EN
BEGIN:VEVENT
SUMMARY:Senior Set: Splat Studio
UID:25613
DTSTAMP:20260425T194100Z
DTSTART:20260804T180000Z
DTEND:20260804T200000Z
LOCATION:Altoona Public Library, 700 8th Street SW, Altoona, IA 50009, Uni
 ted States
ROOM: Meeting Room Full (A&amp;B)
DESCRIPTION:
URL:https://altoonapl.librarycalendar.com/index.php/event/senior-set-splat
 -studio-25613
END:VEVENT
END:VCALENDAR
