BEGIN:VCALENDAR
VERSION:2.0
PRODID:-//Library Market//iCal Export//EN
BEGIN:VEVENT
SUMMARY:Senior Set: Crafting
UID:23718
DTSTAMP:20260425T172900Z
DTSTART:20260714T180000Z
DTEND:20260714T200000Z
LOCATION:Altoona Public Library, 700 8th Street SW, Altoona, IA 50009, Uni
 ted States
ROOM: Meeting Room Full (A&amp;B)
DESCRIPTION:This month we&#039;re making: Woven Mug Rugs
URL:https://altoonapl.librarycalendar.com/index.php/event/senior-set-craft
 ing-23718
END:VEVENT
END:VCALENDAR
