BEGIN:VCALENDAR
VERSION:2.0
PRODID:-//Library Market//iCal Export//EN
BEGIN:VEVENT
SUMMARY:Senior Set: Games
UID:23706
DTSTAMP:20260425T192300Z
DTSTART:20260721T180000Z
DTEND:20260721T200000Z
LOCATION:Altoona Public Library, 700 8th Street SW, Altoona, IA 50009, Uni
 ted States
ROOM: Meeting Room Full (A&amp;B)
DESCRIPTION:
URL:https://altoonapl.librarycalendar.com/index.php/event/senior-set-games
 -23706
END:VEVENT
END:VCALENDAR
